BEGIN:VCALENDAR
VERSION:2.0
PRODID:-//Cedar Valley Church - ECPv4.9.11//NONSGML v1.0//EN
CALSCALE:GREGORIAN
METHOD:PUBLISH
X-WR-CALNAME:Cedar Valley Church
X-ORIGINAL-URL:https://cvchurch.org
X-WR-CALDESC:Events for Cedar Valley Church
BEGIN:VTIMEZONE
TZID:UTC
BEGIN:STANDARD
TZOFFSETFROM:+0000
TZOFFSETTO:+0000
TZNAME:UTC
DTSTART:20260101T000000
END:STANDARD
END:VTIMEZONE
BEGIN:VEVENT
DTSTART;VALUE=DATE:20260510
DTEND;VALUE=DATE:20260511
DTSTAMP:20260425T122827
CREATED:20250415T180854Z
LAST-MODIFIED:20260402T182320Z
UID:20246-1778371200-1778457599@cvchurch.org
SUMMARY:Mother's Day
DESCRIPTION:Mother’s Day\nSunday\, May 10\, 2026\nServices | 8:30 & 10:30 | Auditorium\nShare your deepest love and appreciation with the woman who made your life possible. Remember to honor your mom or the women who’ve made a difference in your life this Sunday! \nAs a blessing to ladies 6th grade and older\, we’re giving out flowers. Pick one up in the Atrium following both services. \n
URL:https://cvchurch.org/event/mothersday/
LOCATION:CV Auditorium\, 8600 Bloomington Av S\, Bloomington\, MN\, 55425\, United States
CATEGORIES:General
ATTACH;FMTTYPE=image/jpeg:https://cvchurch.org/wp-content/uploads/2025/04/Mothers-Day-Web-EV.jpg
ORGANIZER;CN="General":MAILTO:info@cvchurch.org
END:VEVENT
END:VCALENDAR