BEGIN:VCALENDAR
VERSION:2.0
PRODID:-//Cedar Valley Church - ECPv4.9.11//NONSGML v1.0//EN
CALSCALE:GREGORIAN
METHOD:PUBLISH
X-WR-CALNAME:Cedar Valley Church
X-ORIGINAL-URL:https://cvchurch.org
X-WR-CALDESC:Events for Cedar Valley Church
BEGIN:VTIMEZONE
TZID:UTC
BEGIN:STANDARD
TZOFFSETFROM:+0000
TZOFFSETTO:+0000
TZNAME:UTC
DTSTART:20260101T000000
END:STANDARD
END:VTIMEZONE
BEGIN:VEVENT
DTSTART;VALUE=DATE:20260614
DTEND;VALUE=DATE:20260615
DTSTAMP:20260425T123249
CREATED:20241203T193558Z
LAST-MODIFIED:20260421T203057Z
UID:19153-1781395200-1781481599@cvchurch.org
SUMMARY:Open House Lunch
DESCRIPTION:New to Cedar Valley? Then this is for you!\nOpen House Lunch\nFor anyone new to Cedar Valley in the last six months\nSunday\, June 14\, 2026\nNoon\nAtrium\nYou’re invited to have lunch with us! Come and hear more about the Cedar Valley family\, get to know the Pastors\, tour the building\, and find out how you can get connected. \nAnd if you have kids\, bring them! \nMenu: Pizza and salad \n\nTo help us plan for food\, please let us know you’re coming! Sign up by Jun. 8 \nFREE REGISTRATION >\n
URL:https://cvchurch.org/event/openhouselunch/
LOCATION:CV Atrium\, 8600 Bloomington Ave S\, Bloomington\, MN\, 55425\, United States
CATEGORIES:General
ATTACH;FMTTYPE=image/jpeg:https://cvchurch.org/wp-content/uploads/2024/12/Open-House-Lunch-Web-EV.jpg
ORGANIZER;CN="General":MAILTO:info@cvchurch.org
END:VEVENT
END:VCALENDAR