BEGIN:VCALENDAR
VERSION:2.0
PRODID:-//Cedar Valley Church - ECPv4.9.11//NONSGML v1.0//EN
CALSCALE:GREGORIAN
METHOD:PUBLISH
X-WR-CALNAME:Cedar Valley Church
X-ORIGINAL-URL:https://cvchurch.org
X-WR-CALDESC:Events for Cedar Valley Church
BEGIN:VTIMEZONE
TZID:America/Chicago
BEGIN:DAYLIGHT
TZOFFSETFROM:-0600
TZOFFSETTO:-0500
TZNAME:CDT
DTSTART:20260308T080000
END:DAYLIGHT
BEGIN:STANDARD
TZOFFSETFROM:-0500
TZOFFSETTO:-0600
TZNAME:CST
DTSTART:20261101T070000
END:STANDARD
END:VTIMEZONE
BEGIN:VEVENT
DTSTART;VALUE=DATE:20260412
DTEND;VALUE=DATE:20260504
DTSTAMP:20260425T120508
CREATED:20260225T142742Z
LAST-MODIFIED:20260309T145717Z
UID:22538-1775952000-1777852799@cvchurch.org
SUMMARY:Class—Spiritual Gifts
DESCRIPTION:4-Session Sunday Class\nSpiritual Gifts\nSundays\, April 12\, 19\, & 26\, May 3\, 2026\n9:55 –10:30 a.m. | Room 28\nSnacks\, coffee\, and water are provided\nWhat are spiritual gifts? Who has spiritual gifts? Are you using your gifts to build up the church? Join the next Sunday Class for a deeper look at what the Bible says about spiritual gifts. \nCome to one or all sessions—whatever fits your schedule! \nThere is no cost or registration required to attend the class. \n\nGot kids? Childcare is available for birth–5th grade!\nTwo Important Instructions:\n\nTELL a Kids Leader you’ll be attending the class when dropping off your child.\n8:30 am service attender: PICK UP your child immediately following class.\n\nWe assume\, if you’re attending the class\, your child will attend Kids Service at 8:30 or 10:30 am. \n\nIf your child is attending the 8:30 am Kids Service\, they’ll stay after the service until 10:30 am.\nIf your child is attending the 10:30 am Kids Service\, childcare opens at 9:50 am\, and they’ll stay for the 10:30 am Kids Service.\n\n\nMiss a session? Check out our online class recordings >\n
URL:https://cvchurch.org/event/spiritualgifts/
LOCATION:CV Rm 28\, 8600 Bloomington Ave S\, Bloomington\, MN\, 55425\, United States
CATEGORIES:Adults,General
ATTACH;FMTTYPE=image/jpeg:https://cvchurch.org/wp-content/uploads/2026/02/Spiritual-Gifts-Class-Web-EV.jpg
ORGANIZER;CN="Adult":MAILTO:info@cvchurch.org
END:VEVENT
END:VCALENDAR